BEGIN:VCALENDAR
VERSION:2.0
PRODID:-//eventon.com NONSGML v1.0//EN
CALSCALE:GREGORIAN
METHOD:PUBLISH
BEGIN:VEVENT
UID:69e5e55acc65d
DTSTAMP:20260420T083538Z
DTSTART:20260213T013000Z
DTEND:20260213T033000Z
LOCATION:
SUMMARY:Atelier : art thérapie"votre expérience nous intéresse"
DESCRIPTION:JEUDI 12 FEVRIER 2026 De 14h30 à 16h30 : Centre SocioCulturel 
 Audrey BARTIER Gratuit Rens. : 03 21 33 29 53\nhttps://www.ville-wimereux.f
 r/events/atelier-art-therapievotre-experience-nous-interesse/
URL:https://www.ville-wimereux.fr/events/atelier-art-therapievotre-experience-nous-interesse/
END:VEVENT
END:VCALENDAR